git_url: https://git.bioconductor.org/packages/Mergeomics git_branch: RELEASE_3_16 git_last_commit: e0c1cee git_last_commit_date: 2022-11-01 11:12:53 -0400 (Tue, 01 Nov 2022) Package: Mergeomics Version: 1.26.0 Maintainer: Zeyneb Kurt MaintainerEmail: zeynebkurt at gmail.com