Package: MetaCyto Version: 1.20.0 Command: /Library/Frameworks/R.framework/Resources/bin/R CMD build --keep-empty-dirs --no-resave-data MetaCyto StartedAt: 2023-04-17 13:42:43 -0400 (Mon, 17 Apr 2023) EndedAt: 2023-04-17 13:46:28 -0400 (Mon, 17 Apr 2023) EllapsedTime: 225.0 seconds RetCode: 0 Status: OK PackageFile: MetaCyto_1.20.0.tar.gz PackageFileSize: 971.5 KiB