Package: MetaNeighbor Version: 1.18.0 Command: rm -rf MetaNeighbor.buildbin-libdir && mkdir MetaNeighbor.buildbin-libdir && /Users/biocbuild/BBS/utils/build-universal.sh MetaNeighbor_1.18.0.tar.gz /Library/Frameworks/R.framework/Resources/bin/R MetaNeighbor.buildbin-libdir StartedAt: 2023-04-18 17:06:54 -0400 (Tue, 18 Apr 2023) EndedAt: 2023-04-18 17:07:10 -0400 (Tue, 18 Apr 2023) EllapsedTime: 15.7 seconds RetCode: 0 Status: OK PackageFile: MetaNeighbor_1.18.0.tgz PackageFileSize: 4.143 MiB