Package: MetaNeighbor Version: 1.18.0 Command: /Library/Frameworks/R.framework/Resources/bin/R CMD INSTALL MetaNeighbor StartedAt: 2023-04-16 15:44:14 -0400 (Sun, 16 Apr 2023) EndedAt: 2023-04-16 15:44:23 -0400 (Sun, 16 Apr 2023) EllapsedTime: 8.7 seconds RetCode: 0 Status: OK