Package: MetaboAnnotation Version: 1.2.0 Command: rm -rf MetaboAnnotation.buildbin-libdir && mkdir MetaboAnnotation.buildbin-libdir && /Users/biocbuild/BBS/utils/build-universal.sh MetaboAnnotation_1.2.0.tar.gz /Library/Frameworks/R.framework/Resources/bin/R MetaboAnnotation.buildbin-libdir StartedAt: 2023-04-18 17:04:54 -0400 (Tue, 18 Apr 2023) EndedAt: 2023-04-18 17:06:16 -0400 (Tue, 18 Apr 2023) EllapsedTime: 81.7 seconds RetCode: 0 Status: OK PackageFile: MetaboAnnotation_1.2.0.tgz PackageFileSize: 1.599 MiB