Package: MetaboAnnotation Version: 1.2.0 Command: /Library/Frameworks/R.framework/Resources/bin/R CMD build --keep-empty-dirs --no-resave-data MetaboAnnotation StartedAt: 2023-04-17 13:39:30 -0400 (Mon, 17 Apr 2023) EndedAt: 2023-04-17 13:41:15 -0400 (Mon, 17 Apr 2023) EllapsedTime: 104.5 seconds RetCode: 0 Status: OK PackageFile: MetaboAnnotation_1.2.0.tar.gz PackageFileSize: 1.161 MiB