Package: MsBackendMgf Version: 1.6.0 Command: /Library/Frameworks/R.framework/Resources/bin/R CMD build --keep-empty-dirs --no-resave-data MsBackendMgf StartedAt: 2023-04-17 16:58:04 -0400 (Mon, 17 Apr 2023) EndedAt: 2023-04-17 16:58:31 -0400 (Mon, 17 Apr 2023) EllapsedTime: 26.9 seconds RetCode: 0 Status: OK PackageFile: MsBackendMgf_1.6.0.tar.gz PackageFileSize: 310.6 KiB