Package: MsBackendMgf Version: 1.6.0 Command: /Library/Frameworks/R.framework/Resources/bin/R CMD INSTALL MsBackendMgf StartedAt: 2023-04-16 15:09:30 -0400 (Sun, 16 Apr 2023) EndedAt: 2023-04-16 15:09:46 -0400 (Sun, 16 Apr 2023) EllapsedTime: 16.8 seconds RetCode: 0 Status: OK