Package: MsBackendRawFileReader Version: 1.4.0 Command: /Library/Frameworks/R.framework/Resources/bin/R CMD build --keep-empty-dirs --no-resave-data MsBackendRawFileReader StartedAt: 2023-04-17 16:58:59 -0400 (Mon, 17 Apr 2023) EndedAt: 2023-04-17 16:59:01 -0400 (Mon, 17 Apr 2023) EllapsedTime: 2.3 seconds RetCode: 1 Status: ERROR PackageFile: None PackageFileSize: NA