Package: Mulcom Version: 1.48.0 Command: /Library/Frameworks/R.framework/Resources/bin/R CMD build --keep-empty-dirs --no-resave-data Mulcom StartedAt: 2023-04-17 17:44:15 -0400 (Mon, 17 Apr 2023) EndedAt: 2023-04-17 17:44:17 -0400 (Mon, 17 Apr 2023) EllapsedTime: 2.2 seconds RetCode: 0 Status: OK PackageFile: Mulcom_1.48.0.tar.gz PackageFileSize: 1.095 MiB