Package: NetActivity Version: 1.0.0 Command: rm -rf NetActivity.buildbin-libdir && mkdir NetActivity.buildbin-libdir && /Users/biocbuild/BBS/utils/build-universal.sh NetActivity_1.0.0.tar.gz /Library/Frameworks/R.framework/Resources/bin/R NetActivity.buildbin-libdir StartedAt: 2023-04-18 17:50:34 -0400 (Tue, 18 Apr 2023) EndedAt: 2023-04-18 17:51:43 -0400 (Tue, 18 Apr 2023) EllapsedTime: 68.3 seconds RetCode: 0 Status: OK PackageFile: NetActivity_1.0.0.tgz PackageFileSize: 399.4 KiB