Package: ORFik
Version: 1.18.2
Command: /Library/Frameworks/R.framework/Resources/bin/R CMD build --keep-empty-dirs --no-resave-data ORFik
StartedAt: 2023-04-17 19:56:19 -0400 (Mon, 17 Apr 2023)
EndedAt: 2023-04-17 20:01:08 -0400 (Mon, 17 Apr 2023)
EllapsedTime: 289.4 seconds
RetCode: 0
Status: OK
PackageFile: ORFik_1.18.2.tar.gz
PackageFileSize: 3.18 <A href="http://en.wikipedia.org/wiki/MiB" target="_blank">MiB</A>