Package: OmaDB
Version: 2.14.0
Command: /Library/Frameworks/R.framework/Resources/bin/R CMD build --keep-empty-dirs --no-resave-data OmaDB
StartedAt: 2023-04-17 19:16:48 -0400 (Mon, 17 Apr 2023)
EndedAt: 2023-04-17 19:17:21 -0400 (Mon, 17 Apr 2023)
EllapsedTime: 33.0 seconds
RetCode: 0
Status: OK
PackageFile: OmaDB_2.14.0.tar.gz
PackageFileSize: 97.94 <A href="http://en.wikipedia.org/wiki/KiB" target="_blank">KiB</A>