Package: Omixer Version: 1.8.0 Command: /Library/Frameworks/R.framework/Resources/bin/R CMD INSTALL Omixer StartedAt: 2023-04-16 15:23:55 -0400 (Sun, 16 Apr 2023) EndedAt: 2023-04-16 15:24:03 -0400 (Sun, 16 Apr 2023) EllapsedTime: 8.9 seconds RetCode: 0 Status: OK