Package: Organism.dplyr Version: 1.26.0 Command: /Library/Frameworks/R.framework/Resources/bin/R CMD build --keep-empty-dirs --no-resave-data Organism.dplyr StartedAt: 2023-04-17 19:58:54 -0400 (Mon, 17 Apr 2023) EndedAt: 2023-04-17 20:00:14 -0400 (Mon, 17 Apr 2023) EllapsedTime: 79.9 seconds RetCode: 0 Status: OK PackageFile: Organism.dplyr_1.26.0.tar.gz PackageFileSize: 501.5 KiB