Package: PADOG Version: 1.40.0 Command: rm -rf PADOG.buildbin-libdir && mkdir PADOG.buildbin-libdir && /Users/biocbuild/BBS/utils/build-universal.sh PADOG_1.40.0.tar.gz /Library/Frameworks/R.framework/Resources/bin/R PADOG.buildbin-libdir StartedAt: 2023-04-18 18:07:08 -0400 (Tue, 18 Apr 2023) EndedAt: 2023-04-18 18:07:44 -0400 (Tue, 18 Apr 2023) EllapsedTime: 36.7 seconds RetCode: 0 Status: OK PackageFile: PADOG_1.40.0.tgz PackageFileSize: 398.2 KiB