Package: PADOG Version: 1.40.0 Command: /Library/Frameworks/R.framework/Resources/bin/R CMD build --keep-empty-dirs --no-resave-data PADOG StartedAt: 2023-04-17 20:27:30 -0400 (Mon, 17 Apr 2023) EndedAt: 2023-04-17 20:34:49 -0400 (Mon, 17 Apr 2023) EllapsedTime: 439.6 seconds RetCode: 0 Status: OK PackageFile: PADOG_1.40.0.tar.gz PackageFileSize: 368.8 KiB