Package: PADOG Version: 1.40.0 Command: /Library/Frameworks/R.framework/Resources/bin/R CMD INSTALL PADOG StartedAt: 2023-04-16 15:18:16 -0400 (Sun, 16 Apr 2023) EndedAt: 2023-04-16 15:18:43 -0400 (Sun, 16 Apr 2023) EllapsedTime: 27.7 seconds RetCode: 0 Status: OK