Package: PAIRADISE Version: 1.14.0 Command: rm -rf PAIRADISE.buildbin-libdir && mkdir PAIRADISE.buildbin-libdir && /Users/biocbuild/BBS/utils/build-universal.sh PAIRADISE_1.14.0.tar.gz /Library/Frameworks/R.framework/Resources/bin/R PAIRADISE.buildbin-libdir StartedAt: 2023-04-18 18:07:23 -0400 (Tue, 18 Apr 2023) EndedAt: 2023-04-18 18:08:07 -0400 (Tue, 18 Apr 2023) EllapsedTime: 43.5 seconds RetCode: 0 Status: OK PackageFile: PAIRADISE_1.14.0.tgz PackageFileSize: 362.8 KiB