Package: PAIRADISE Version: 1.14.0 Command: /Library/Frameworks/R.framework/Resources/bin/R CMD INSTALL PAIRADISE StartedAt: 2023-04-16 15:41:15 -0400 (Sun, 16 Apr 2023) EndedAt: 2023-04-16 15:41:49 -0400 (Sun, 16 Apr 2023) EllapsedTime: 33.5 seconds RetCode: 0 Status: OK