Package: PCAtools Version: 2.10.0 Command: rm -rf PCAtools.buildbin-libdir && mkdir PCAtools.buildbin-libdir && /Users/biocbuild/BBS/utils/build-universal.sh PCAtools_2.10.0.tar.gz /Library/Frameworks/R.framework/Resources/bin/R PCAtools.buildbin-libdir StartedAt: 2023-04-18 18:09:34 -0400 (Tue, 18 Apr 2023) EndedAt: 2023-04-18 18:10:59 -0400 (Tue, 18 Apr 2023) EllapsedTime: 85.4 seconds RetCode: 0 Status: OK PackageFile: PCAtools_2.10.0.tgz PackageFileSize: 4.709 MiB