Package: PING Version: 2.42.0 Command: rm -rf PING.buildbin-libdir && mkdir PING.buildbin-libdir && /Users/biocbuild/BBS/utils/build-universal.sh PING_2.42.0.tar.gz /Library/Frameworks/R.framework/Resources/bin/R PING.buildbin-libdir StartedAt: 2023-04-18 18:15:03 -0400 (Tue, 18 Apr 2023) EndedAt: 2023-04-18 18:17:14 -0400 (Tue, 18 Apr 2023) EllapsedTime: 130.8 seconds RetCode: 0 Status: OK PackageFile: PING_2.42.0.tgz PackageFileSize: 5.549 MiB