Package: PROPS Version: 1.20.0 Command: /Library/Frameworks/R.framework/Resources/bin/R CMD INSTALL PROPS StartedAt: 2023-04-16 17:50:54 -0400 (Sun, 16 Apr 2023) EndedAt: 2023-04-16 17:51:31 -0400 (Sun, 16 Apr 2023) EllapsedTime: 36.5 seconds RetCode: 0 Status: OK