Package: PROcess
Version: 1.74.0
Command: rm -rf PROcess.buildbin-libdir && mkdir PROcess.buildbin-libdir && /Users/biocbuild/BBS/utils/build-universal.sh PROcess_1.74.0.tar.gz /Library/Frameworks/R.framework/Resources/bin/R PROcess.buildbin-libdir
StartedAt: 2023-04-18 18:22:34 -0400 (Tue, 18 Apr 2023)
EndedAt: 2023-04-18 18:22:52 -0400 (Tue, 18 Apr 2023)
EllapsedTime: 17.9 seconds
RetCode: 0
Status: OK
PackageFile: PROcess_1.74.0.tgz
PackageFileSize: 2.052 <A href="http://en.wikipedia.org/wiki/MiB" target="_blank">MiB</A>