Package: PSMatch
Version: 1.2.0
Command: rm -rf PSMatch.buildbin-libdir && mkdir PSMatch.buildbin-libdir && /Users/biocbuild/BBS/utils/build-universal.sh PSMatch_1.2.0.tar.gz /Library/Frameworks/R.framework/Resources/bin/R PSMatch.buildbin-libdir
StartedAt: 2023-04-18 18:25:19 -0400 (Tue, 18 Apr 2023)
EndedAt: 2023-04-18 18:26:23 -0400 (Tue, 18 Apr 2023)
EllapsedTime: 64.5 seconds
RetCode: 0
Status: OK
PackageFile: PSMatch_1.2.0.tgz
PackageFileSize: 1.611 <A href="http://en.wikipedia.org/wiki/MiB" target="_blank">MiB</A>