Package: PWMEnrich Version: 4.34.0 Command: /Library/Frameworks/R.framework/Resources/bin/R CMD build --keep-empty-dirs --no-resave-data PWMEnrich StartedAt: 2023-04-17 23:07:27 -0400 (Mon, 17 Apr 2023) EndedAt: 2023-04-17 23:08:59 -0400 (Mon, 17 Apr 2023) EllapsedTime: 91.5 seconds RetCode: 0 Status: OK PackageFile: PWMEnrich_4.34.0.tar.gz PackageFileSize: 1.571 MiB