Package: PanomiR Version: 1.2.0 Command: /Library/Frameworks/R.framework/Resources/bin/R CMD build --keep-empty-dirs --no-resave-data PanomiR StartedAt: 2023-04-17 20:46:20 -0400 (Mon, 17 Apr 2023) EndedAt: 2023-04-17 20:47:23 -0400 (Mon, 17 Apr 2023) EllapsedTime: 63.3 seconds RetCode: 0 Status: OK PackageFile: PanomiR_1.2.0.tar.gz PackageFileSize: 1.98 MiB