git_url: https://git.bioconductor.org/packages/RCy3
git_branch: RELEASE_3_16
git_last_commit: b3e5f7b
git_last_commit_date: 2022-11-01 11:12:26 -0400 (Tue, 01 Nov 2022)
Package: RCy3
Version: 2.18.0
Maintainer: Alex Pico
MaintainerEmail: alex.pico at gladstone.ucsf.edu