Package: RCyjs
Version: 2.20.0
Command: rm -rf RCyjs.buildbin-libdir && mkdir RCyjs.buildbin-libdir && /Users/biocbuild/BBS/utils/build-universal.sh RCyjs_2.20.0.tar.gz /Library/Frameworks/R.framework/Resources/bin/R RCyjs.buildbin-libdir
StartedAt: 2023-04-18 18:39:08 -0400 (Tue, 18 Apr 2023)
EndedAt: 2023-04-18 18:39:32 -0400 (Tue, 18 Apr 2023)
EllapsedTime: 23.2 seconds
RetCode: 0
Status: OK
PackageFile: RCyjs_2.20.0.tgz
PackageFileSize: 1020 <A href="http://en.wikipedia.org/wiki/KiB" target="_blank">KiB</A>