Package: REDseq Version: 1.44.0 Command: /Library/Frameworks/R.framework/Resources/bin/R CMD INSTALL REDseq StartedAt: 2023-04-16 16:55:08 -0400 (Sun, 16 Apr 2023) EndedAt: 2023-04-16 16:56:34 -0400 (Sun, 16 Apr 2023) EllapsedTime: 86.1 seconds RetCode: 0 Status: OK