git_url: https://git.bioconductor.org/packages/RIVER git_branch: RELEASE_3_16 git_last_commit: d5090dd git_last_commit_date: 2022-11-01 11:15:29 -0400 (Tue, 01 Nov 2022) Package: RIVER Version: 1.22.0 Maintainer: Yungil Kim MaintainerEmail: ipw012 at gmail.com