Package: RNASeqPower Version: 1.38.0 Command: rm -rf RNASeqPower.buildbin-libdir && mkdir RNASeqPower.buildbin-libdir && /Users/biocbuild/BBS/utils/build-universal.sh RNASeqPower_1.38.0.tar.gz /Library/Frameworks/R.framework/Resources/bin/R RNASeqPower.buildbin-libdir StartedAt: 2023-04-18 19:02:07 -0400 (Tue, 18 Apr 2023) EndedAt: 2023-04-18 19:02:14 -0400 (Tue, 18 Apr 2023) EllapsedTime: 7.8 seconds RetCode: 0 Status: OK PackageFile: RNASeqPower_1.38.0.tgz PackageFileSize: 197 KiB