Package: RNASeqPower Version: 1.38.0 Command: /Library/Frameworks/R.framework/Resources/bin/R CMD INSTALL RNASeqPower StartedAt: 2023-04-16 14:05:31 -0400 (Sun, 16 Apr 2023) EndedAt: 2023-04-16 14:05:35 -0400 (Sun, 16 Apr 2023) EllapsedTime: 4.5 seconds RetCode: 0 Status: OK