Package: RNAdecay Version: 1.18.0 Command: rm -rf RNAdecay.buildbin-libdir && mkdir RNAdecay.buildbin-libdir && /Users/biocbuild/BBS/utils/build-universal.sh RNAdecay_1.18.0.tar.gz /Library/Frameworks/R.framework/Resources/bin/R RNAdecay.buildbin-libdir StartedAt: 2023-04-18 18:57:20 -0400 (Tue, 18 Apr 2023) EndedAt: 2023-04-18 19:07:45 -0400 (Tue, 18 Apr 2023) EllapsedTime: 625.3 seconds RetCode: 0 Status: OK PackageFile: RNAdecay_1.18.0.tgz PackageFileSize: 4.891 MiB