Package: RNAsense Version: 1.12.0 Command: /Library/Frameworks/R.framework/Resources/bin/R CMD INSTALL RNAsense StartedAt: 2023-04-16 14:51:26 -0400 (Sun, 16 Apr 2023) EndedAt: 2023-04-16 14:52:03 -0400 (Sun, 16 Apr 2023) EllapsedTime: 37.4 seconds RetCode: 0 Status: OK