Package: RTNsurvival Version: 1.22.0 Command: rm -rf RTNsurvival.buildbin-libdir && mkdir RTNsurvival.buildbin-libdir && /Users/biocbuild/BBS/utils/build-universal.sh RTNsurvival_1.22.0.tar.gz /Library/Frameworks/R.framework/Resources/bin/R RTNsurvival.buildbin-libdir StartedAt: 2023-04-18 19:08:31 -0400 (Tue, 18 Apr 2023) EndedAt: 2023-04-18 19:09:47 -0400 (Tue, 18 Apr 2023) EllapsedTime: 76.6 seconds RetCode: 0 Status: OK PackageFile: RTNsurvival_1.22.0.tgz PackageFileSize: 942.1 KiB