Package: RTNsurvival Version: 1.22.0 Command: /Library/Frameworks/R.framework/Resources/bin/R CMD build --keep-empty-dirs --no-resave-data RTNsurvival StartedAt: 2023-04-18 02:41:34 -0400 (Tue, 18 Apr 2023) EndedAt: 2023-04-18 02:42:33 -0400 (Tue, 18 Apr 2023) EllapsedTime: 58.6 seconds RetCode: 0 Status: OK PackageFile: RTNsurvival_1.22.0.tar.gz PackageFileSize: 732.8 KiB