Package: RTNsurvival Version: 1.22.0 Command: /Library/Frameworks/R.framework/Resources/bin/R CMD INSTALL RTNsurvival StartedAt: 2023-04-16 18:54:02 -0400 (Sun, 16 Apr 2023) EndedAt: 2023-04-16 18:54:47 -0400 (Sun, 16 Apr 2023) EllapsedTime: 45.3 seconds RetCode: 0 Status: OK