Package: RUVnormalize Version: 1.32.0 Command: /Library/Frameworks/R.framework/Resources/bin/R CMD build --keep-empty-dirs --no-resave-data RUVnormalize StartedAt: 2023-04-18 02:52:12 -0400 (Tue, 18 Apr 2023) EndedAt: 2023-04-18 02:52:39 -0400 (Tue, 18 Apr 2023) EllapsedTime: 27.2 seconds RetCode: 0 Status: OK PackageFile: RUVnormalize_1.32.0.tar.gz PackageFileSize: 190.6 KiB