git_url: https://git.bioconductor.org/packages/RankProd git_branch: RELEASE_3_16 git_last_commit: de12266 git_last_commit_date: 2022-11-01 10:38:58 -0400 (Tue, 01 Nov 2022) Package: RankProd Version: 3.24.0 Maintainer: Francesco Del Carratore MaintainerEmail: francescodc87 at gmail.com