Package: RankProd Version: 3.24.0 Command: /Library/Frameworks/R.framework/Resources/bin/R CMD INSTALL RankProd StartedAt: 2023-04-16 14:11:26 -0400 (Sun, 16 Apr 2023) EndedAt: 2023-04-16 14:11:34 -0400 (Sun, 16 Apr 2023) EllapsedTime: 7.5 seconds RetCode: 0 Status: OK