Package: Rbowtie2 Version: 2.4.2 Command: /Library/Frameworks/R.framework/Resources/bin/R CMD INSTALL Rbowtie2 StartedAt: 2023-04-16 16:11:41 -0400 (Sun, 16 Apr 2023) EndedAt: 2023-04-16 16:16:01 -0400 (Sun, 16 Apr 2023) EllapsedTime: 259.8 seconds RetCode: 0 Status: OK