Package: RefPlus
Version: 1.68.0
Command: /Library/Frameworks/R.framework/Resources/bin/R CMD INSTALL RefPlus
StartedAt: 2023-04-16 14:30:22 -0400 (Sun, 16 Apr 2023)
EndedAt: 2023-04-16 14:30:41 -0400 (Sun, 16 Apr 2023)
EllapsedTime: 19.4 seconds
RetCode: 0
Status: OK