Package: ReportingTools Version: 2.38.0 Command: rm -rf ReportingTools.buildbin-libdir && mkdir ReportingTools.buildbin-libdir && /Users/biocbuild/BBS/utils/build-universal.sh ReportingTools_2.38.0.tar.gz /Library/Frameworks/R.framework/Resources/bin/R ReportingTools.buildbin-libdir StartedAt: 2023-04-18 18:43:38 -0400 (Tue, 18 Apr 2023) EndedAt: 2023-04-18 18:46:39 -0400 (Tue, 18 Apr 2023) EllapsedTime: 181.5 seconds RetCode: 0 Status: OK PackageFile: ReportingTools_2.38.0.tgz PackageFileSize: 2.025 MiB