Package: Rfastp Version: 1.8.0 Command: rm -rf Rfastp.buildbin-libdir && mkdir Rfastp.buildbin-libdir && /Users/biocbuild/BBS/utils/build-universal.sh Rfastp_1.8.0.tar.gz /Library/Frameworks/R.framework/Resources/bin/R Rfastp.buildbin-libdir StartedAt: 2023-04-18 18:45:48 -0400 (Tue, 18 Apr 2023) EndedAt: 2023-04-18 18:49:36 -0400 (Tue, 18 Apr 2023) EllapsedTime: 228.2 seconds RetCode: 0 Status: OK PackageFile: Rfastp_1.8.0.tgz PackageFileSize: 2.766 MiB