Package: Rhdf5lib Version: 1.20.0 Command: /Library/Frameworks/R.framework/Resources/bin/R CMD build --keep-empty-dirs --no-resave-data Rhdf5lib StartedAt: 2023-04-18 01:18:38 -0400 (Tue, 18 Apr 2023) EndedAt: 2023-04-18 01:23:35 -0400 (Tue, 18 Apr 2023) EllapsedTime: 297.4 seconds RetCode: 0 Status: OK PackageFile: Rhdf5lib_1.20.0.tar.gz PackageFileSize: 13.97 MiB