Package: Ringo Version: 1.62.0 Command: /Library/Frameworks/R.framework/Resources/bin/R CMD build --keep-empty-dirs --no-resave-data Ringo StartedAt: 2023-04-18 01:35:30 -0400 (Tue, 18 Apr 2023) EndedAt: 2023-04-18 01:36:28 -0400 (Tue, 18 Apr 2023) EllapsedTime: 57.7 seconds RetCode: 0 Status: OK PackageFile: Ringo_1.62.0.tar.gz PackageFileSize: 1.291 MiB