git_url: https://git.bioconductor.org/packages/Risa git_branch: RELEASE_3_16 git_last_commit: 7449c90 git_last_commit_date: 2022-11-01 11:07:22 -0400 (Tue, 01 Nov 2022) Package: Risa Version: 1.40.0 Maintainer: Alejandra Gonzalez-Beltran MaintainerEmail: alejandra.gonzalez.beltran at gmail.com