Package: SCArray Version: 1.6.0 Command: /Library/Frameworks/R.framework/Resources/bin/R CMD build --keep-empty-dirs --no-resave-data SCArray StartedAt: 2023-04-18 03:52:28 -0400 (Tue, 18 Apr 2023) EndedAt: 2023-04-18 03:54:13 -0400 (Tue, 18 Apr 2023) EllapsedTime: 105.0 seconds RetCode: 0 Status: OK PackageFile: SCArray_1.6.0.tar.gz PackageFileSize: 1.423 MiB