Package: SCFA
Version: 1.8.1
Command: /Library/Frameworks/R.framework/Resources/bin/R CMD INSTALL SCFA
StartedAt: 2023-04-16 15:47:37 -0400 (Sun, 16 Apr 2023)
EndedAt: 2023-04-16 15:47:52 -0400 (Sun, 16 Apr 2023)
EllapsedTime: 14.8 seconds
RetCode: 0
Status: OK